BEGIN:VCALENDAR
VERSION:2.0
PRODID:-//Gravy For The Brain Canada - ECPv6.15.11//NONSGML v1.0//EN
CALSCALE:GREGORIAN
METHOD:PUBLISH
X-WR-CALNAME:Gravy For The Brain Canada
X-ORIGINAL-URL:https://canada.gravyforthebrain.com
X-WR-CALDESC:Events for Gravy For The Brain Canada
REFRESH-INTERVAL;VALUE=DURATION:PT1H
X-Robots-Tag:noindex
X-PUBLISHED-TTL:PT1H
BEGIN:VTIMEZONE
TZID:America/Toronto
BEGIN:DAYLIGHT
TZOFFSETFROM:-0500
TZOFFSETTO:-0400
TZNAME:EDT
DTSTART:20190310T070000
END:DAYLIGHT
BEGIN:STANDARD
TZOFFSETFROM:-0400
TZOFFSETTO:-0500
TZNAME:EST
DTSTART:20191103T060000
END:STANDARD
BEGIN:DAYLIGHT
TZOFFSETFROM:-0500
TZOFFSETTO:-0400
TZNAME:EDT
DTSTART:20200308T070000
END:DAYLIGHT
BEGIN:STANDARD
TZOFFSETFROM:-0400
TZOFFSETTO:-0500
TZNAME:EST
DTSTART:20201101T060000
END:STANDARD
BEGIN:DAYLIGHT
TZOFFSETFROM:-0500
TZOFFSETTO:-0400
TZNAME:EDT
DTSTART:20210314T070000
END:DAYLIGHT
BEGIN:STANDARD
TZOFFSETFROM:-0400
TZOFFSETTO:-0500
TZNAME:EST
DTSTART:20211107T060000
END:STANDARD
END:VTIMEZONE
BEGIN:VEVENT
DTSTART;TZID=America/Toronto:20200612T133000
DTEND;TZID=America/Toronto:20200612T190000
DTSTAMP:20260421T045117
CREATED:20200531T184649Z
LAST-MODIFIED:20200531T184649Z
UID:10000332-1591968600-1591988400@canada.gravyforthebrain.com
SUMMARY:June's Virtual Social
DESCRIPTION:It’s June\, so it’s time for our Summer social! \nHowever\, we all want to stay socially distanced\, so let’s have a “virtual socially distanced social” instead (just rolls off the tongue). \nThe plan for the night is simple: Speed Networking! \nWe’re going to come together in Zoom and every 15 minutes you’re going to split off into different rooms with a random group and then… we’re going to do it all over again! \nHaving had great feedback on it from One Voice Conference\, we can promise you that the night will be a blast. We’ll be starting from 18:30pm BST and going on until late\, and the venue is just your own home. \nSign up for the big event and we’ll get your join links out to you as soon as possible. \nWe look forward to finally meeting up with you all again\, it’s been too long.
URL:https://canada.gravyforthebrain.com/event/junes-virtual-social/
LOCATION:Online
CATEGORIES:Social Events
ATTACH;FMTTYPE=image/jpeg:https://canada.gravyforthebrain.com/wp-content/uploads/2020/05/WhatsApp-Image-2020-05-28-at-12.30.38.jpeg
GEO:51.6118814;-0.1785603
END:VEVENT
BEGIN:VEVENT
DTSTART;TZID=America/Toronto:20200609T190000
DTEND;TZID=America/Toronto:20200609T200000
DTSTAMP:20260421T045117
CREATED:20200531T184222Z
LAST-MODIFIED:20200531T184222Z
UID:10000331-1591729200-1591732800@canada.gravyforthebrain.com
SUMMARY:An Interview with Creative Director Don Veinish
DESCRIPTION:Members: Free \nNon-members: $45 \n 0.00am + 1 BST (London) / 4.00pm PDT (Los Angeles) / 7.00pm EDT (New York) / 9.00am + 1 AEST  (Sydney) \nBev Standing and Graeme Spicer interview Don Veinish and goes inside his career as a successful creative director\, as he offers up the big lessons he’s learned during his time in VO.
URL:https://canada.gravyforthebrain.com/event/an-interview-with-creative-director-don-veinish/
LOCATION:Online
CATEGORIES:Webinars
ATTACH;FMTTYPE=image/jpeg:https://canada.gravyforthebrain.com/wp-content/uploads/2020/05/GFTB-Canada-Webinars-don-veinish.jpg
GEO:51.6118814;-0.1785603
END:VEVENT
BEGIN:VEVENT
DTSTART;TZID=America/Toronto:20200521T190000
DTEND;TZID=America/Toronto:20200521T200000
DTSTAMP:20260421T045117
CREATED:20200424T150546Z
LAST-MODIFIED:20200424T150546Z
UID:10000330-1590087600-1590091200@canada.gravyforthebrain.com
SUMMARY:P2P Sites Are Going....Or Are They?  An Interview with David Tyler
DESCRIPTION:Members: Free \nNon-members: $45 \n 0.00am + 1 BST (London) / 4.00pm PDT (Los Angeles) / 7.00pm EDT (New York) / 9.00am + 1 AEST  (Sydney) \n\nFind out what’s actually going on with P2P sites that means things will never be the same again.  A must-see webinar if you use\, or are thinking of using P2P sites.
URL:https://canada.gravyforthebrain.com/event/p2p-sites-are-going-or-are-they-an-interview-with-david-tyler/
LOCATION:Online
CATEGORIES:Webinars
ATTACH;FMTTYPE=image/jpeg:https://canada.gravyforthebrain.com/wp-content/uploads/2020/04/GFTB-Canada-Webinars-david-tyler-interview.jpg
GEO:51.6118814;-0.1785603
END:VEVENT
BEGIN:VEVENT
DTSTART;TZID=America/Toronto:20200430T190000
DTEND;TZID=America/Toronto:20200430T200000
DTSTAMP:20260421T045117
CREATED:20200320T152342Z
LAST-MODIFIED:20200320T154150Z
UID:10000329-1588273200-1588276800@canada.gravyforthebrain.com
SUMMARY:"Get Work In Animation" With Elley Ray Hennessy
DESCRIPTION:Members: Free\nNon-members: $45\n\n0.00 + 1 BST (London)\, 4.00pm PDT (Los Angeles)\, 7.00pm EDT (New York)\, 09.00am +1 AEST  (Sydney)\n\nHow to get started in Animation the right way and understanding the differences in animation around the world\, so you can get more work from this global industry.
URL:https://canada.gravyforthebrain.com/event/get-work-in-animation-with-elley-ray-hennessy/
LOCATION:Online
CATEGORIES:Webinars
ATTACH;FMTTYPE=image/jpeg:https://canada.gravyforthebrain.com/wp-content/uploads/2020/03/GFTB-Canada-Webinars-animation-ellen-ray.jpg
GEO:51.6118814;-0.1785603
END:VEVENT
BEGIN:VEVENT
DTSTART;TZID=America/Toronto:20200326T190000
DTEND;TZID=America/Toronto:20200326T200000
DTSTAMP:20260421T045117
CREATED:20200226T143244Z
LAST-MODIFIED:20200226T143244Z
UID:10000328-1585249200-1585252800@canada.gravyforthebrain.com
SUMMARY:A Conversation with Dave Courvoisier
DESCRIPTION:Members: Free \nNon-members: $45 \n11.00pm GMT (London) / 4.00pm PDT (Los Angeles) / 7.00pm EDT (New York) / 10.00am +1 AEDT (Sydney) \nDave Courvoisier – Courvo – is one of the voiceover community’s best-known prognosticators. He writes a leading industry blog and is one of the founders of World-Voices.org\, a trade association of voice actors.We discuss his background in voiceover\, industry trends\, and the benefits of organizations like World-Voices. \n 
URL:https://canada.gravyforthebrain.com/event/a-conversation-with-dave-courvoisier/
LOCATION:Online
CATEGORIES:Webinars
ATTACH;FMTTYPE=image/jpeg:https://canada.gravyforthebrain.com/wp-content/uploads/2020/02/GFTB-Canada-Webinars-dave_courvisour.jpg
GEO:51.6118814;-0.1785603
END:VEVENT
END:VCALENDAR